BEGIN:VCALENDAR
VERSION:2.0
PRODID:-//Adirondack Thunder//echlthunder.com//EN
CALSCALE:GREGORIAN
BEGIN:VEVENT
UID:https://echlthunder.com/games/2026/04/24/maine-mariners
DTSTAMP:20260420T133243Z
SUMMARY:Adirondack Thunder @ Maine Mariners
DTSTART;TZID=Canada/Eastern:20260424T180000
DTEND;TZID=Canada/Eastern:20260424T210000
DESCRIPTION:Adirondack Thunder at Maine Mariners
LOCATION:Cross Insurance Arena\, Portland\, Maine
URL;VALUE=URI:https://echlthunder.com/games/2026/04/24/maine-mariners
END:VEVENT
END:VCALENDAR
